BEGIN:VCALENDAR
VERSION:2.0
PRODID:-//ChamberMaster//Event Calendar 2.0//EN
METHOD:PUBLISH
X-PUBLISHED-TTL:P3D
REFRESH-INTERVAL:P3D
CALSCALE:GREGORIAN
BEGIN:VEVENT
DTSTART:20200307T190000Z
DTEND:20200307T203000Z
X-MICROSOFT-CDO-ALLDAYEVENT:FALSE
SUMMARY:White Line Block Printing w/ Emily Uldrich
DESCRIPTION:Create your own white line block print with Museum Educator\, Emily Uldrich! Working in Grace Martin Taylor's white line printing process\, the workshop will cover the techniques\, carving methods\, and different paper used by print makers. $15 members $18 nonmembers BUY NOW AT FB LINK FOR $15 price! All supplies are included! Register by calling 740-354-5629
X-ALT-DESC;FMTTYPE=text/html:Create your own white line block print with Museum Educator\, Emily Uldrich! Working in Grace Martin Taylor&rsquo\;s white line printing process\, the workshop will cover the techniques\, carving methods\, and different paper used by print makers. $15 members $18 nonmembers BUY NOW AT FB LINK FOR $15 price! All supplies are included! Register by calling 740-354-5629
LOCATION:Southern Ohio Museum Classroom
UID:e.3589.95
SEQUENCE:3
DTSTAMP:20260422T135201Z
URL:https://business.portsmouth.org/events/details/white-line-block-printing-w-emily-uldrich-95
END:VEVENT

END:VCALENDAR
