BEGIN:VCALENDAR
VERSION:2.0
PRODID:-//ChamberMaster//Event Calendar 2.0//EN
METHOD:PUBLISH
X-PUBLISHED-TTL:P3D
REFRESH-INTERVAL:P3D
CALSCALE:GREGORIAN
BEGIN:VEVENT
DTSTART;VALUE=DATE:20210508
DTEND;VALUE=DATE:20210509
TRANSP:TRANSPARENT
X-MICROSOFT-CDO-ALLDAYEVENT:TRUE
SUMMARY:Wine & Cheese Tasting
DESCRIPTION:Wine and Cheese Tasting from 6 -8 pm at the Selby 100 Mile House and Gardens located at 4866D U.S. 52 in Stout.  Get ready for a fun filled evening with Jon Offredo from Offredo Selections - five wines paired with five different kinds of cheese. This will be an outdoor event weather permitting. Mask required until seated. Assigned seating with your party with limited availability. The event fee is $30 per person.  For additional information\, find them on Facebook or visit their website at selby100milehouse.com or email them at info@selby100milehouse.com.  They can also be reached by phone at (606) 585-8626.
X-ALT-DESC;FMTTYPE=text/html:<strong>Wine and Cheese Tasting</strong> from 6 -8 pm at the Selby 100 Mile House and Gardens located at 4866D U.S. 52 in Stout.&nbsp\; Get ready for a fun filled evening with Jon Offredo from Offredo Selections - five wines paired with five different kinds of cheese. This will be an outdoor event weather permitting. Mask required until seated. Assigned seating with your party with limited availability. The event fee is $30 per person.&nbsp\; For additional information\, find them on Facebook or visit their website at selby100milehouse.com or email them at info@selby100milehouse.com.&nbsp\; They can also be reached by phone at (606) 585-8626.
LOCATION:
UID:e.3589.139
SEQUENCE:3
DTSTAMP:20260419T201541Z
URL:https://business.portsmouth.org/events/details/wine-cheese-tasting-139
END:VEVENT

END:VCALENDAR
