BEGIN:VCALENDAR
VERSION:2.0
PRODID:-//ChamberMaster//Event Calendar 2.0//EN
METHOD:PUBLISH
X-PUBLISHED-TTL:P3D
REFRESH-INTERVAL:P3D
CALSCALE:GREGORIAN
BEGIN:VEVENT
DTSTART:20220122T150000Z
DTEND:20220122T190000Z
X-MICROSOFT-CDO-ALLDAYEVENT:FALSE
SUMMARY:Winter Hike
DESCRIPTION:Strap on your winter hiking gear and join Connex for our 1st winter Annual Winter Hike. Hikers begin the 6-mile trek from Turkey Creek Beach parking lot at the Shawnee State Forest. Hikers should hike counterclockwise. Connex will serve beans\, cornbread and hot chocolate mid-trail point until 2 PM. Hikers are encouraged to begin the hike by 10 am. A donation for refreshments is encouraged.
X-ALT-DESC;FMTTYPE=text/html:Strap on your winter hiking gear and join Connex for our 1st winter Annual Winter Hike. Hikers begin the 6-mile trek from Turkey Creek Beach parking lot at the Shawnee State Forest. Hikers should hike counterclockwise. Connex will serve beans\, cornbread and hot chocolate mid-trail point until 2 PM. Hikers are encouraged to begin the hike by 10 am. A donation for refreshments is encouraged.
LOCATION:Turkey Creek Beach parking lot at the Shawnee State Forest
UID:e.3589.324
SEQUENCE:3
DTSTAMP:20260420T220013Z
URL:https://business.portsmouth.org/events/details/winter-hike-324
END:VEVENT

END:VCALENDAR
