BEGIN:VCALENDAR
VERSION:2.0
PRODID:-//ChamberMaster//Event Calendar 2.0//EN
METHOD:PUBLISH
X-PUBLISHED-TTL:P3D
REFRESH-INTERVAL:P3D
CALSCALE:GREGORIAN
BEGIN:VEVENT
DTSTART;VALUE=DATE:20211126
DTEND;VALUE=DATE:20220101
TRANSP:TRANSPARENT
X-MICROSOFT-CDO-ALLDAYEVENT:TRUE
SUMMARY:Winterfest
DESCRIPTION:Winterfest in downtown Portsmouth!  \n\nHistoric Boneyfiddle's Market Square will be transformed into a winter wonderland this holiday season\, with skating\, millions of lights\, snow tubing\, carriage rides\, vendor village\, the gift shop\, and more than a few surprises! For more information contact by email at hello@FriendsofPortsmouth.com\, find them on Facebook or visit their webpage at https://www.friendsofportsmouth.com/winterfest.
X-ALT-DESC;FMTTYPE=text/html:<strong><span style="color:#FF0000\;"><span style="font-size:48px\;"><span style="font-family:tahoma\;">Winterfest in downtown Portsmouth!&nbsp\;</span></span></span>&nbsp\;</strong><br />\n<span style="font-size:28px\;">Historic Boneyfiddle&#39\;s Market Square will be transformed into a winter wonderland this holiday season\, with skating\, millions of lights\, snow tubing\, carriage rides\, vendor village\, the gift shop\, and more than a few surprises! For more information contact by email at hello@FriendsofPortsmouth.com\, find them on Facebook or visit their webpage at https://www.friendsofportsmouth.com/winterfest.</span>
LOCATION:
UID:e.3589.280
SEQUENCE:3
DTSTAMP:20260419T125946Z
URL:https://business.portsmouth.org/events/details/winterfest-280
END:VEVENT

END:VCALENDAR
